BEGIN:VCALENDAR
VERSION:2.0
PRODID:-//Yuko Kuramatsu - ECPv6.2.6.1//NONSGML v1.0//EN
CALSCALE:GREGORIAN
METHOD:PUBLISH
X-ORIGINAL-URL:https://www.yukokuramatsu.com/ja_jp
X-WR-CALDESC:Events for Yuko Kuramatsu
REFRESH-INTERVAL;VALUE=DURATION:PT1H
X-Robots-Tag:noindex
X-PUBLISHED-TTL:PT1H
BEGIN:VTIMEZONE
TZID:Europe/Paris
BEGIN:DAYLIGHT
TZOFFSETFROM:+0100
TZOFFSETTO:+0200
TZNAME:CEST
DTSTART:20180325T010000
END:DAYLIGHT
BEGIN:STANDARD
TZOFFSETFROM:+0200
TZOFFSETTO:+0100
TZNAME:CET
DTSTART:20181028T010000
END:STANDARD
END:VTIMEZONE
BEGIN:VEVENT
DTSTART;TZID=Europe/Paris:20180501T080000
DTEND;TZID=Europe/Paris:20180930T170000
DTSTAMP:20260421T125927
CREATED:20230528T133341Z
LAST-MODIFIED:20230528T171604Z
UID:344-1525161600-1538326800@www.yukokuramatsu.com
SUMMARY:EXPOSITION « BANDE À PART ! »
DESCRIPTION:
URL:https://www.yukokuramatsu.com/ja_jp/event/exposition-bande-a-part/
LOCATION:Musée de l’île d’Oléron\, Saint-Pierre d'Oléron\, 17310\, France
CATEGORIES:Expo
ATTACH;FMTTYPE=image/jpeg:https://www.yukokuramatsu.com/wp-content/uploads/2023/05/ACEY4zZPZc9ExIIydpwgKL7HE0wBhmc9.jpg
END:VEVENT
BEGIN:VEVENT
DTSTART;TZID=Europe/Paris:20180609T080000
DTEND;TZID=Europe/Paris:20180610T170000
DTSTAMP:20260421T125927
CREATED:20230528T133608Z
LAST-MODIFIED:20230528T171558Z
UID:352-1528531200-1528650000@www.yukokuramatsu.com
SUMMARY:CÉRAMIQUE EN FÊTE
DESCRIPTION:
URL:https://www.yukokuramatsu.com/ja_jp/event/ceramique-en-fete/
LOCATION:CÉRAMIQUE EN FÊTE\, Sadirac\, 33670\, France
CATEGORIES:Marché
ATTACH;FMTTYPE=image/jpeg:https://www.yukokuramatsu.com/wp-content/uploads/2023/05/9_g3qSU3ivvbIT79fhaRdQAGqgDgnaPtmd.jpg
END:VEVENT
END:VCALENDAR